BEGIN:VCALENDAR
VERSION:2.0
PRODID:-//blankenese.de - ECPv6.15.20//NONSGML v1.0//EN
CALSCALE:GREGORIAN
METHOD:PUBLISH
X-ORIGINAL-URL:https://blankenese.de
X-WR-CALDESC:Veranstaltungen für blankenese.de
REFRESH-INTERVAL;VALUE=DURATION:PT1H
X-Robots-Tag:noindex
X-PUBLISHED-TTL:PT1H
BEGIN:VTIMEZONE
TZID:Europe/Berlin
BEGIN:DAYLIGHT
TZOFFSETFROM:+0100
TZOFFSETTO:+0200
TZNAME:CEST
DTSTART:20250330T010000
END:DAYLIGHT
BEGIN:STANDARD
TZOFFSETFROM:+0200
TZOFFSETTO:+0100
TZNAME:CET
DTSTART:20251026T010000
END:STANDARD
BEGIN:DAYLIGHT
TZOFFSETFROM:+0100
TZOFFSETTO:+0200
TZNAME:CEST
DTSTART:20260329T010000
END:DAYLIGHT
BEGIN:STANDARD
TZOFFSETFROM:+0200
TZOFFSETTO:+0100
TZNAME:CET
DTSTART:20261025T010000
END:STANDARD
BEGIN:DAYLIGHT
TZOFFSETFROM:+0100
TZOFFSETTO:+0200
TZNAME:CEST
DTSTART:20270328T010000
END:DAYLIGHT
BEGIN:STANDARD
TZOFFSETFROM:+0200
TZOFFSETTO:+0100
TZNAME:CET
DTSTART:20271031T010000
END:STANDARD
END:VTIMEZONE
BEGIN:VEVENT
DTSTART;TZID=Europe/Berlin:20260106T190000
DTEND;TZID=Europe/Berlin:20260106T220000
DTSTAMP:20260420T154821
CREATED:20251217T162438Z
LAST-MODIFIED:20251229T114123Z
UID:47327-1767726000-1767736800@blankenese.de
SUMMARY:Norbert Frei: Konrad Adenauer
DESCRIPTION:Dei Buchhandlung Wassermann schreibt: \nAm 5. Januar 2026 wäre Konrad Adenauer 150 Jahre alt geworden. \nDer Historiker Norbert Frei widmet dem ersten Kanzler der Bundesrepublik Deutschland aus diesem Anlass eine Biographie. Sie stellt „den Alten“ als Pragmatiker der Macht vor. \nFrei spricht darüber mit dem Journalisten Stephan Lamby. \nDie Veranstaltung ist eine Kooperation mit der Konrad-Adenauer-Stiftung Hamburg.
URL:https://blankenese.de/event/norbert-frei-konrad-adenauer/
LOCATION:Buchhandlung Wassermann\, Elbchaussee 577\, Hamburg\, 22587
CATEGORIES:Bildung,Literatur
ATTACH;FMTTYPE=image/jpeg:https://blankenese.de/wp-content/uploads/2025/12/Frei.Norbert.jpg
END:VEVENT
BEGIN:VEVENT
DTSTART;TZID=Europe/Berlin:20260115T190000
DTEND;TZID=Europe/Berlin:20260115T220000
DTSTAMP:20260420T154821
CREATED:20251217T162856Z
LAST-MODIFIED:20251229T115032Z
UID:47329-1768503600-1768514400@blankenese.de
SUMMARY:Herbert Beckmann: Hoher Himmel\, Nichts als Blau
DESCRIPTION:Eine Episode im Leben Hans Henny Jahnns: Während des 2. Weltkriegs hielt sich der Dichter und Orgelbauer auf der dänischen Insel Bornholm auf. \nAn seiner Seite waren damals gleich drei Frauen\, die in Herbert Beckmanns neuesten Buch die Hauptrollen spielen
URL:https://blankenese.de/event/herbert-beckmann-hoher-himmel-nichts-als-blau/
LOCATION:Buchhandlung Wassermann\, Elbchaussee 577\, Hamburg\, 22587
CATEGORIES:Bildung,Literatur
ATTACH;FMTTYPE=image/jpeg:https://blankenese.de/wp-content/uploads/2025/12/Beckmann2026.jpg
END:VEVENT
END:VCALENDAR