BEGIN:VCALENDAR
VERSION:2.0
PRODID:-//blankenese.de - ECPv6.15.20//NONSGML v1.0//EN
CALSCALE:GREGORIAN
METHOD:PUBLISH
X-ORIGINAL-URL:https://blankenese.de
X-WR-CALDESC:Veranstaltungen für blankenese.de
REFRESH-INTERVAL;VALUE=DURATION:PT1H
X-Robots-Tag:noindex
X-PUBLISHED-TTL:PT1H
BEGIN:VTIMEZONE
TZID:Europe/Berlin
BEGIN:DAYLIGHT
TZOFFSETFROM:+0100
TZOFFSETTO:+0200
TZNAME:CEST
DTSTART:20250330T010000
END:DAYLIGHT
BEGIN:STANDARD
TZOFFSETFROM:+0200
TZOFFSETTO:+0100
TZNAME:CET
DTSTART:20251026T010000
END:STANDARD
BEGIN:DAYLIGHT
TZOFFSETFROM:+0100
TZOFFSETTO:+0200
TZNAME:CEST
DTSTART:20260329T010000
END:DAYLIGHT
BEGIN:STANDARD
TZOFFSETFROM:+0200
TZOFFSETTO:+0100
TZNAME:CET
DTSTART:20261025T010000
END:STANDARD
BEGIN:DAYLIGHT
TZOFFSETFROM:+0100
TZOFFSETTO:+0200
TZNAME:CEST
DTSTART:20270328T010000
END:DAYLIGHT
BEGIN:STANDARD
TZOFFSETFROM:+0200
TZOFFSETTO:+0100
TZNAME:CET
DTSTART:20271031T010000
END:STANDARD
END:VTIMEZONE
BEGIN:VEVENT
DTSTART;TZID=Europe/Berlin:20260321T180000
DTEND;TZID=Europe/Berlin:20260321T190000
DTSTAMP:20260423T125412
CREATED:20260301T152914Z
LAST-MODIFIED:20260301T152914Z
UID:48668-1774116000-1774119600@blankenese.de
SUMMARY:Hornissimo - Konzert für Horn und Klavier
DESCRIPTION:Dieser Konzertabend ist ein Bonbon für Liebhaber des warmen\, facettenreichen Hornklangs und der anspruchsvollen Kammermusik.Das abwechslungsreiche Programm bietet bedeutende Werke der Hornliteratur – von spätromantischer Klangfülle bis zu virtuoser Moderne.\n\nZu hören sind die Sonate für Horn und Klavier von York Bowen\, das eindrucksvolle Rezitativ für Horn solo des Ungarn Zsigmond Szathmáry\, „Alpha“ für Horn und Klavier des französischen Filmkomponisten Jean-Michel Defaye sowie das Hornkonzert Nr. 2 von Richard Strauss (in einer Fassung für Horn und Klavier).\n\nAusführende:\nFlorian Hasenfratz\, Horn\nOskar Szathmáry\, Horn\n(Beide sind Studenten von Prof. Christian Lampert an der Musikakademie Basel)\nEberhard Hasenfratz\, Klavier
URL:https://blankenese.de/event/hornissimo-konzert-fuer-horn-und-klavier/
CATEGORIES:Musik
ATTACH;FMTTYPE=image/jpeg:https://blankenese.de/wp-content/uploads/2026/03/hornissimo.jpg
END:VEVENT
END:VCALENDAR