BEGIN:VCALENDAR
VERSION:2.0
PRODID:-//blankenese.de - ECPv6.15.20//NONSGML v1.0//EN
CALSCALE:GREGORIAN
METHOD:PUBLISH
X-WR-CALNAME:blankenese.de
X-ORIGINAL-URL:https://blankenese.de
X-WR-CALDESC:Veranstaltungen für blankenese.de
REFRESH-INTERVAL;VALUE=DURATION:PT1H
X-Robots-Tag:noindex
X-PUBLISHED-TTL:PT1H
BEGIN:VTIMEZONE
TZID:Europe/Berlin
BEGIN:DAYLIGHT
TZOFFSETFROM:+0100
TZOFFSETTO:+0200
TZNAME:CEST
DTSTART:20240331T010000
END:DAYLIGHT
BEGIN:STANDARD
TZOFFSETFROM:+0200
TZOFFSETTO:+0100
TZNAME:CET
DTSTART:20241027T010000
END:STANDARD
BEGIN:DAYLIGHT
TZOFFSETFROM:+0100
TZOFFSETTO:+0200
TZNAME:CEST
DTSTART:20250330T010000
END:DAYLIGHT
BEGIN:STANDARD
TZOFFSETFROM:+0200
TZOFFSETTO:+0100
TZNAME:CET
DTSTART:20251026T010000
END:STANDARD
BEGIN:DAYLIGHT
TZOFFSETFROM:+0100
TZOFFSETTO:+0200
TZNAME:CEST
DTSTART:20260329T010000
END:DAYLIGHT
BEGIN:STANDARD
TZOFFSETFROM:+0200
TZOFFSETTO:+0100
TZNAME:CET
DTSTART:20261025T010000
END:STANDARD
END:VTIMEZONE
BEGIN:VEVENT
DTSTART;TZID=Europe/Berlin:20251111T140000
DTEND;TZID=Europe/Berlin:20251111T153000
DTSTAMP:20260422T104633
CREATED:20251103T214557Z
LAST-MODIFIED:20251103T214625Z
UID:46460-1762869600-1762875000@blankenese.de
SUMMARY:Tablet- und Smartphone-Treffs
DESCRIPTION:Haben Sie Fragen oder Probleme bei der Nutzung Ihres Smartphones oder Tablets? Gern bieten wir Ihnen Unterstützung und den Austausch im kleinen Kreis an. Unsere ehrenamtlichen Expertinnen und Experten stehen Ihnen bei den Treffs mit Rat und Tat zur Seite\, sie beantworten Ihre individuellen Fragen. Wir freuen uns\, Sie bei uns begrüßen zu dürfen. \nBitte melden Sie sich am Counter an. | Handy oder Tablet unbedingt mitbringen! | Spenden erbeten
URL:https://blankenese.de/event/tablet-und-smartphone-treffs/
LOCATION:Mühlenbergerweg 64\, Souterrain\, Mühlenbergerweg 64\, Hamburg\, Hamburg\, 22587\, Germany
CATEGORIES:Bildung,Leben im Ort,Soziales
ATTACH;FMTTYPE=image/jpeg:https://blankenese.de/wp-content/uploads/2025/11/image.jpeg
END:VEVENT
BEGIN:VEVENT
DTSTART;TZID=Europe/Berlin:20251118T140000
DTEND;TZID=Europe/Berlin:20251118T153000
DTSTAMP:20260422T104633
CREATED:20251103T215202Z
LAST-MODIFIED:20251103T215202Z
UID:46467-1763474400-1763479800@blankenese.de
SUMMARY:Tablet- und Smartphone-Treff
DESCRIPTION:Haben Sie Fragen oder Probleme bei der Nutzung Ihres Smartphones oder Tablets? Gern bieten wir Ihnen Unterstützung und den Austausch im kleinen Kreis an. Unsere ehrenamtlichen Expertinnen und Experten stehen Ihnen bei den Treffs mit Rat und Tat zur Seite\, sie beantworten Ihre individuellen Fragen. Wir freuen uns\, Sie bei uns begrüßen zu dürfen. \nBitte melden Sie sich am Counter an. | Handy oder Tablet unbedingt mitbringen! | Spenden erbeten
URL:https://blankenese.de/event/tablet-und-smartphone-treff-17/
LOCATION:Mühlenbergerweg 64\, Souterrain\, Mühlenbergerweg 64\, Hamburg\, Hamburg\, 22587\, Germany
CATEGORIES:Bildung,Leben im Ort,Soziales
ATTACH;FMTTYPE=image/jpeg:https://blankenese.de/wp-content/uploads/2025/11/image-2.jpeg
END:VEVENT
END:VCALENDAR